BEGIN:VCALENDAR
PRODID:-//eluceo/ical//2.0/EN
VERSION:2.0
CALSCALE:GREGORIAN
BEGIN:VEVENT
UID:2fac597de5ae7a3da1b6931a3ed5a49c
DTSTAMP:20260422T014230Z
SUMMARY:Hanukkah Shabbat
DESCRIPTION:Jewish Federation of Greater Portland\nCommunity Calendar\nhttp
 s://jewishportland.org/community-calendar/hanukkah-shabbat-1606858221\n\nR
 eflect and celebrate with the Moishe House young adult community!\n\nThis 
 Hanukkah we are celebrating the gift of light and resisting injustice toge
 ther as a community! Everyday of Hanukkah join the young adult Jewish comm
 unity in learning about a new way to practice Tikkun olam on our Facebook 
 and Instagram. In each spot”light” learn about the movements our commu
 nity members care about and how they keep fighting for what they believe i
 n\, just like the Maccabees did! Join us in reflectin...
DTSTART;TZID=America/Los_Angeles:20201218T180000
DTEND;TZID=America/Los_Angeles:20201218T190000
END:VEVENT
END:VCALENDAR
