BEGIN:VCALENDAR
PRODID:-//eluceo/ical//2.0/EN
VERSION:2.0
CALSCALE:GREGORIAN
BEGIN:VEVENT
UID:5cdd35ca22332557bee71246f1ee0705
DTSTAMP:20260423T135738Z
SUMMARY:Havurah Shalom Yom Kippur Family Ruach Service
DESCRIPTION:Jewish Federation of Greater Portland\nCommunity Calendar\nhttp
 s://jewishportland.org/community-calendar/havurah-shalom-yom-kippur-family
 -ruach-service\n\nThis Yom Kippur Family Service is for families with kids
  ages 6-10. It is free and open to the community\, but reservations are re
 quired.
DTSTART;TZID=America/Los_Angeles:20141004T094500
DTEND;TZID=America/Los_Angeles:20141004T103000
END:VEVENT
END:VCALENDAR
