BEGIN:VCALENDAR
PRODID:-//eluceo/ical//2.0/EN
VERSION:2.0
CALSCALE:GREGORIAN
BEGIN:VEVENT
UID:bb1b8e102ea94cbc22a7fbd60a2ea539
DTSTAMP:20260422T055752Z
SUMMARY:Hershey Felder as Irving Berlin
DESCRIPTION:Jewish Federation of Greater Portland\nCommunity Calendar\nhttp
 s://jewishportland.org/community-calendar/hershey-felder-as-irving-berlin-
 1471978729\n\nIt's time for OJMCHE's annual theatre fundraising event and 
 we know that tickers for Hershey Felder as Irving Berlin will be going fas
 t.
DTSTART;TZID=America/Los_Angeles:20161218T140000
DTEND;TZID=America/Los_Angeles:20161218T160000
END:VEVENT
END:VCALENDAR
