BEGIN:VCALENDAR
PRODID:-//eluceo/ical//2.0/EN
VERSION:2.0
CALSCALE:GREGORIAN
BEGIN:VEVENT
UID:265a9ac28a6b256e8b34d23825745264
DTSTAMP:20260425T031946Z
SUMMARY:How I Stopped Hating Jews & Israel - Webinar
DESCRIPTION:Jewish Federation of Greater Portland\nCommunity Calendar\nhttp
 s://jewishportland.org/community-calendar/how-i-stopped-hating-jews-israel
 -webinar\n\nBorn in Egypt\, Hussein found himself persecuted and then impr
 isoned for wanting to learn the truth about Israel. He will share his amaz
 ing story and shed light on the geopolitical realities of the Arab Middle 
 East and its relationship with Israel.\n\nSign up HERE
DTSTART;TZID=America/Los_Angeles:20200331T090000
DTEND;TZID=America/Los_Angeles:20200331T100000
END:VEVENT
END:VCALENDAR
