BEGIN:VCALENDAR
PRODID:-//eluceo/ical//2.0/EN
VERSION:2.0
CALSCALE:GREGORIAN
BEGIN:VEVENT
UID:f29c1e8ce006c9465ea5b50e4176a110
DTSTAMP:20260420T081112Z
SUMMARY:Israeli Dancing
DESCRIPTION:Jewish Federation of Greater Portland\nCommunity Calendar\nhttp
 s://jewishportland.org/community-calendar/israeli-dancing-jul2017\n\nJoin 
 us for a fun\, introductory Israeli dance class. All levels are welcome. 
DTSTART;TZID=America/Los_Angeles:20170712T000000
DTEND;TZID=America/Los_Angeles:20170712T000000
END:VEVENT
END:VCALENDAR
