BEGIN:VCALENDAR
PRODID:-//eluceo/ical//2.0/EN
VERSION:2.0
CALSCALE:GREGORIAN
BEGIN:VEVENT
UID:ee65f0a55fd41ab109ffc887872e2d1d
DTSTAMP:20260425T124725Z
SUMMARY:Israeli Film Series - Teen Night: The Other Son
DESCRIPTION:Jewish Federation of Greater Portland\nCommunity Calendar\nhttp
 s://jewishportland.org/community-calendar/israeli-film-series---teen-night
 -the-other-son-1473194186\n\nGrab your friends and join us for Teen Night 
 at the Israel Film Series!
DTSTART;TZID=America/Los_Angeles:20161103T183000
DTEND;TZID=America/Los_Angeles:20161103T200000
END:VEVENT
END:VCALENDAR
