BEGIN:VCALENDAR
PRODID:-//eluceo/ical//2.0/EN
VERSION:2.0
CALSCALE:GREGORIAN
BEGIN:VEVENT
UID:b8e7d3691440ea50e342853bc2b39ffb
DTSTAMP:20260421T215433Z
SUMMARY:Israeli Folk Dance Celebration: An Israel@70 Celebration of Dance
DESCRIPTION:Jewish Federation of Greater Portland\nCommunity Calendar\nhttp
 s://jewishportland.org/community-calendar/israeli-folk-dance-celebration-a
 n-israel70-celebration-of-dance\n\nIsraeli Folk Dance Celebration: An Isra
 el@70 Celebration of Dance\n\nCelebrate 70 years of Israeli dance with spe
 cial guest\, Ms. Lior Haykeen. There will be dance instruction for young c
 hildren\, families\, teens\, and adults.\n\nPlease see various prices and 
 levels and register at: oregonjcc.org/israelidance\n\nIn partnership with 
 Jewish Federation and Portland Israeli and Folk Dance Leaders
DTSTART;TZID=America/Los_Angeles:20180623T160000
DTEND;TZID=America/Los_Angeles:20180623T230000
END:VEVENT
END:VCALENDAR
