BEGIN:VCALENDAR
PRODID:-//eluceo/ical//2.0/EN
VERSION:2.0
CALSCALE:GREGORIAN
BEGIN:VEVENT
UID:d3d6fe1fe17c1838ec118f0e2fa4843f
DTSTAMP:20260421T105846Z
SUMMARY:Jared Blank’s Story  support ALIYAH
DESCRIPTION:Jewish Federation of Greater Portland\nCommunity Calendar\nhttp
 s://jewishportland.org/community-calendar/jared-blanks-story--support-aliy
 ah-1582835515\n\nJared Blank’s Story w/ ALIYAH\n\nSunday\, March 8\, 11:
 00am\n\nDyslexia Inclusion superhero Jared Blank tells his inspiring story
  of overcoming dyslexia and becoming a World Marathon Challenge achiever. 
 Join us to hear his inspiring story and support ALIYAH’s inclusion effor
 ts!\n\nMore info\, please contact Mel Berwin at: mberwin@nevehshalom.org
DTSTART;TZID=America/Los_Angeles:20200308T110000
DTEND;TZID=America/Los_Angeles:20200308T120000
END:VEVENT
END:VCALENDAR
