BEGIN:VCALENDAR
PRODID:-//eluceo/ical//2.0/EN
VERSION:2.0
CALSCALE:GREGORIAN
BEGIN:VEVENT
UID:f07675126cf293e360ba25dab7a3cc95
DTSTAMP:20260423T153404Z
SUMMARY:Jewish Arts Month
DESCRIPTION:Jewish Federation of Greater Portland\nCommunity Calendar\nhttp
 s://jewishportland.org/community-calendar/jewish-arts-month-1578006127\n\n
 Join us for the ninth annual exhibition of paintings\, fiber\, beadwork\, 
 metals\, glass\, ceramics\, and more to celebrate Jewish Arts Month. The e
 xhibit will be held in the lobby of the Mittleman Jewish Community Center 
 From February 2-28. Different sets of 4-6 artists will display their art e
 ach week.\n\nEverything displayed will be for sale.
DTSTART;TZID=America/Los_Angeles:20200202T090000
DTEND;TZID=America/Los_Angeles:20200228T160000
END:VEVENT
END:VCALENDAR
