BEGIN:VCALENDAR
PRODID:-//eluceo/ical//2.0/EN
VERSION:2.0
CALSCALE:GREGORIAN
BEGIN:VEVENT
UID:a7da33462e4496a192e2e99ec55147dd
DTSTAMP:20260425T122429Z
SUMMARY:Jewish Community Orchestra - Young Artist's Showcase
DESCRIPTION:Jewish Federation of Greater Portland\nCommunity Calendar\nhttp
 s://jewishportland.org/community-calendar/jewish-community-orchestra-young
 -artists-showcase-winter-2020\n\nJewish Community Orchestra: 2019 – 2020
  Season\n\nAll concerts: $10 adults\, $8 seniors\, $5 students.\nChildren 
 under 6 free. Tickets at the door.\nMore info: JCO\n\nYOUNG ARTISTS SHOWC
 ASE\n\nBrahms – Tragic Overture\nGoldmark – Scherzo for Orchestra\n4 c
 oncerti soloists\nSunday\, February 9\n3:00 pm\n\n \n\nSPRING CONCERT\n\n
 Goldmark – In Italien Overture\nR. Strauss – Horn Concerto No. 1\nDan 
 Partridge\, soloist\n\nDiamond – Elegy in Memory of Maurice Ravel\nRimsk
 y-Korsakov – S...
DTSTART;TZID=America/Los_Angeles:20200209T150000
DTEND;TZID=America/Los_Angeles:20200209T170000
END:VEVENT
END:VCALENDAR
