BEGIN:VCALENDAR
PRODID:-//eluceo/ical//2.0/EN
VERSION:2.0
CALSCALE:GREGORIAN
BEGIN:VEVENT
UID:5ba4a04e96ea81948a601535bffd80ee
DTSTAMP:20260424T223057Z
SUMMARY:Jewish National Fund-USA Reading Series: Jewish Pride: Rebuilding a
  People
DESCRIPTION:Jewish Federation of Greater Portland\nCommunity Calendar\nhttp
 s://jewishportland.org/community-calendar/jewish-national-fund-usa-reading
 -series-jewish-pride-rebuilding-a-people-1623446522\n\nJoin Jewish Nationa
 l Fund-USA IsraelCast host Steven Shalowitz and author Ben Freeman on Wedn
 esday\, July 28\, at 7:00 pm ET for a live Q&A session about his book\, Je
 wish Pride: Rebuilding a People.\nAbout JNF-USA’s Reading Series: Jewish
  National Fund-USA’s Reading Series takes place monthly via Zoom and bri
 ngs together readers and Jewish authors for a lively and engrossing virtua
 l discussion\, moderated by JNF-USA IsraelCast host Steven Shalowitz. Ever
 y month\, a new book about Judaism...
DTSTART;TZID=America/Los_Angeles:20210728T160000
DTEND;TZID=America/Los_Angeles:20210728T180000
END:VEVENT
END:VCALENDAR
