BEGIN:VCALENDAR
PRODID:-//eluceo/ical//2.0/EN
VERSION:2.0
CALSCALE:GREGORIAN
BEGIN:VEVENT
UID:bbabee91bdea1d576f7e49e49b43fa7f
DTSTAMP:20260425T022211Z
SUMMARY:Jewish Summer Festival and Movie in the Park
DESCRIPTION:Jewish Federation of Greater Portland\nCommunity Calendar\nhttp
 s://jewishportland.org/community-calendar/jewish-summer-festival-and-movie
 -in-the-park-1686260420\n\nJewish Summer Festival and Movie in the park\n\
 nThursday\, Jul 13\, 2023 at 7:00PM\n\nA fun evening celebrating Jewish li
 fe and culture.\n\nOpen and free for all. Fun for all ages.\n\nNY Deli Sty
 le Popup! Kosher\n\nChallah booth\nKona soft ices truck on site\n\nMovie s
 howing at sunset : A woman in Gold\nBring your own blanket and cozy up.\n\
 nPlease RSVP : PORLTANDJEWISHFESTIVAL.COM\n\nBrought to you by Chabad Youn
 g Professionals | Chabad NW and Summer free for all\nEvent co-sponsored by
  OJCF an...
DTSTART;TZID=America/Los_Angeles:20230713T190000
DTEND;TZID=America/Los_Angeles:20230713T220000
END:VEVENT
END:VCALENDAR
