BEGIN:VCALENDAR
PRODID:-//eluceo/ical//2.0/EN
VERSION:2.0
CALSCALE:GREGORIAN
BEGIN:VEVENT
UID:5067bc26fd0f2475248f0194685f66ab
DTSTAMP:20260423T165111Z
SUMMARY:Brighter Together: A JFCS Celebration of Care
DESCRIPTION:Jewish Federation of Greater Portland\nCommunity Calendar\nhttp
 s://jewishportland.org/community-calendar/jfcs-annual-spring-fundraiser\n\
 nJoin us May 7th for an evening of connection\, celebration\, and communit
 y as we come together in support of the vital work of JFCS.\n\nFor more in
 formation and to buy tickets visit https://www.jfcs-portland.org/brighter-
 together
DTSTART;TZID=America/Los_Angeles:20260507T183000
DTEND;TZID=America/Los_Angeles:20260507T213000
END:VEVENT
END:VCALENDAR
