BEGIN:VCALENDAR
PRODID:-//eluceo/ical//2.0/EN
VERSION:2.0
CALSCALE:GREGORIAN
BEGIN:VEVENT
UID:1116ebbee0e2c6bc8a9eb91e4a717dc6
DTSTAMP:20260421T195440Z
SUMMARY:JFCS Community Connection Video Chat
DESCRIPTION:Jewish Federation of Greater Portland\nCommunity Calendar\nhttp
 s://jewishportland.org/community-calendar/jfcs-community-connection-video-
 chat-1586894950\n\nTwo months ago\, none of us could have imagined the wor
 ld we're currently living in. Are you tired of wearing pajamas every day? 
 Worried about your family members that you can't visit? Nervous about goin
 g to the grocery store? We're all experiencing pandemic living and learnin
 g as we go.\n\nLet's come together and talk.\n\nZoom.us\nMeeting ID: 754 3
 95 362\nPassword: 075348\n\nhttps://zoom.us/j/606166438?pwd=SnY4anY2dXlucz
 ZsbUEvYWYyUmNYQT09&status=success
DTSTART;TZID=America/Los_Angeles:20200417T100000
DTEND;TZID=America/Los_Angeles:20200417T110000
END:VEVENT
END:VCALENDAR
