BEGIN:VCALENDAR
PRODID:-//eluceo/ical//2.0/EN
VERSION:2.0
CALSCALE:GREGORIAN
BEGIN:VEVENT
UID:912f857879835cd05a003c860d4879bd
DTSTAMP:20260425T211652Z
SUMMARY:JFCS Community Connection Zoom Group
DESCRIPTION:Jewish Federation of Greater Portland\nCommunity Calendar\nhttp
 s://jewishportland.org/community-calendar/jfcs-community-connection-zoom-g
 roup-1589499147\n\n\n
DTSTART;TZID=America/Los_Angeles:20200515T110000
DTEND;TZID=America/Los_Angeles:20200515T120000
END:VEVENT
END:VCALENDAR
