BEGIN:VCALENDAR
PRODID:-//eluceo/ical//2.0/EN
VERSION:2.0
CALSCALE:GREGORIAN
BEGIN:VEVENT
UID:e28b19bf734dbd0b24d76fe381c646bc
DTSTAMP:20260424T232623Z
SUMMARY:JND January Shabbat
DESCRIPTION:Jewish Federation of Greater Portland\nCommunity Calendar\nhttp
 s://jewishportland.org/community-calendar/jnd-january-shabbat\n\nJoin us f
 or our monthly Shabbat service! Our first Shabbat of the secular New Year!
  Sarah Philips will lead in songs and prayers.\n\nParking is available on 
 Flanders and NW 19th\, but will be limited.\n\n \n\nJews Next Dor (JND) i
 s Congregation Beth Israel’s group for 20/30-somethings! Operating under
  Portland’s largest Reform synagogue\, JND creates opportunities for the
  young adults of Portland’s Jewish community to come together in a relax
 ed and open environment. JND holds one Shabbat...
DTSTART;TZID=America/Los_Angeles:20200103T193000
DTEND;TZID=America/Los_Angeles:20200103T213000
END:VEVENT
END:VCALENDAR
