BEGIN:VCALENDAR
PRODID:-//eluceo/ical//2.0/EN
VERSION:2.0
CALSCALE:GREGORIAN
BEGIN:VEVENT
UID:7ffb80682a31139707189dbecee41a3f
DTSTAMP:20260419T164030Z
SUMMARY:JND Virtual May Shabbat
DESCRIPTION:Jewish Federation of Greater Portland\nCommunity Calendar\nhttp
 s://jewishportland.org/community-calendar/jnd-virtual-april-happy-hour\n\n
 Sarah Philips will lead us in songs\, prayers\, and a brief d'var Torah an
 d discussion with Allison V. Collect what you have in the house for candle
  lighting\, Kiddush\, and some Challah\, or whatever works for you to come
  together and keep tradition!\n\nJoin our Zoom service at:\nhttps://us02we
 b.zoom.us/j/81497107201\nMeeting ID: 814 9710 7201\nPassword: 082483\n\nJe
 ws Next Dor (JND) is Congregation Beth Israel’s group for 20/30-somethin
 gs! Operating under Portland’s largest Reform synagogue\,...
DTSTART;TZID=America/Los_Angeles:20200501T183000
DTEND;TZID=America/Los_Angeles:20200501T203000
END:VEVENT
END:VCALENDAR
