BEGIN:VCALENDAR
PRODID:-//eluceo/ical//2.0/EN
VERSION:2.0
CALSCALE:GREGORIAN
BEGIN:VEVENT
UID:c7af6f9672f321c29455e0a93b5c3b23
DTSTAMP:20260420T040017Z
SUMMARY:Junior Kadima and Kadima Chocolate Seder
DESCRIPTION:Jewish Federation of Greater Portland\nCommunity Calendar\nhttp
 s://jewishportland.org/community-calendar/junior-kadima-and-kadima-chocola
 te-seder-1582860170\n\nJr. Kadima/Kadima Chocolate Seder\n\nSunday\, April
  5\, 3:00pm\n\nCalling all 3rd-8th graders\, you are invited to enjoy a sp
 ecial chocolate seder with your peers.\n\nRSVP: eposen@nevehshalom.org
DTSTART;TZID=America/Los_Angeles:20200405T150000
DTEND;TZID=America/Los_Angeles:20200405T170000
END:VEVENT
END:VCALENDAR
