BEGIN:VCALENDAR
PRODID:-//eluceo/ical//2.0/EN
VERSION:2.0
CALSCALE:GREGORIAN
BEGIN:VEVENT
UID:7755c738d180b38dbeb5fb2cec8475c9
DTSTAMP:20260424T064211Z
SUMMARY:Kabbalat Shabbat & American BBQ
DESCRIPTION:Jewish Federation of Greater Portland\nCommunity Calendar\nhttp
 s://jewishportland.org/community-calendar/kabbalat-shabbat-american-bbq\n\
 nSummer is finally here! Kabbalat Shabbat services followed by an all Amer
 ican BBQ: chicken & vegetarian options\, grilled vegetables\, corn\, potat
 o salad\, seasonal strawberry dessert (hoods are in!)\, watermelon\, and m
 ore! BYO Beer & Kosher Wine! 
DTSTART;TZID=America/Los_Angeles:20170714T183000
DTEND;TZID=America/Los_Angeles:20170714T203000
END:VEVENT
END:VCALENDAR
