BEGIN:VCALENDAR
PRODID:-//eluceo/ical//2.0/EN
VERSION:2.0
CALSCALE:GREGORIAN
BEGIN:VEVENT
UID:cff7d30f82f5ed57008c48305b1ef0e3
DTSTAMP:20260420T214247Z
SUMMARY:Kiddush Club for K-2nd Grade
DESCRIPTION:Jewish Federation of Greater Portland\nCommunity Calendar\nhttp
 s://jewishportland.org/community-calendar/kiddush-club-for-k-2nd-grade\n\n
 Join other families for prayer\, singing\, conversation and fun followed b
 y an indoor picnic style lunch.
DTSTART;TZID=America/Los_Angeles:20161119T101500
DTEND;TZID=America/Los_Angeles:20161119T113000
END:VEVENT
END:VCALENDAR
