BEGIN:VCALENDAR
PRODID:-//eluceo/ical//2.0/EN
VERSION:2.0
CALSCALE:GREGORIAN
BEGIN:VEVENT
UID:074533307d2aa6dc17bbed8585bfd9c5
DTSTAMP:20260420T152008Z
SUMMARY:Kol Nidre Services - Neveh Shalom
DESCRIPTION:Jewish Federation of Greater Portland\nCommunity Calendar\nhttp
 s://jewishportland.org/community-calendar/kol-nidre-services-neveh-shalom\
 n\n*Please note that tickets are REQUIRED for these services*\n\nTo purch
 ase tickets\, please visit https://nevehshalom.org/hhd5784/\,contact hhd
 @nevehshalom.org or 503-246-8831.\n\nNeveh Shalom is an open and egalitar
 ian community. Our services are led by our clergy team Rabbi David Kosak\,
  Rabbi Eve Posen\, and Cantor Eyal Bitton\, along with guest leader Natan 
 Meir\, and our lay leaders.\n\nWe welcome all to experience the New Year w
 ith Neveh Shalom!\n\n\n\n6:30pm Kol Nidre Service: Rabbi Kosa...
DTSTART;TZID=America/Los_Angeles:20230924T183000
DTEND;TZID=America/Los_Angeles:20230924T203000
END:VEVENT
END:VCALENDAR
