BEGIN:VCALENDAR
PRODID:-//eluceo/ical//2.0/EN
VERSION:2.0
CALSCALE:GREGORIAN
BEGIN:VEVENT
UID:cb47d1214be69cff80208db739c0075a
DTSTAMP:20260420T230948Z
SUMMARY:Koleinu: Jewish Chorale  at Congregation Neveh Shalom
DESCRIPTION:Jewish Federation of Greater Portland\nCommunity Calendar\nhttp
 s://jewishportland.org/community-calendar/koleinu-jewish-chorale--at-congr
 egation-neveh-shalom-1475274386\n\nJoin our existing group of singers to e
 nhance services and programs at Neveh Shalom and in the community. Koleinu
  meets on Monday nights from 7:15-8:45pm in the Stampfer Chapel. 
DTSTART;TZID=America/Los_Angeles:20161017T191500
DTEND;TZID=America/Los_Angeles:20161017T204500
END:VEVENT
END:VCALENDAR
