BEGIN:VCALENDAR
PRODID:-//eluceo/ical//2.0/EN
VERSION:2.0
CALSCALE:GREGORIAN
BEGIN:VEVENT
UID:e2cc7436753332449c60b437a0bc4a75
DTSTAMP:20260425T005744Z
SUMMARY:Kollel NCSY Family Shabbaton
DESCRIPTION:Jewish Federation of Greater Portland\nCommunity Calendar\nhttp
 s://jewishportland.org/community-calendar/kollel-ncsy-family-shabbaton\n\n
 Saul Blinkoff is joining us for the 2020 Kollel/NCSY Family Shabbaton. Reg
 istration has just opened so grab your room NOW.\n\nSaul is a Disney Anim
 ator\, DreamWorks Producer\, and JRWP Men's Trip Leader. Over the weekend\
 , Saul will share his story on how he went from a kid with a dream to la
 nd a coveted internship at Disney\, he will teach you how to succeed eve
 n if your goal seems unreachable and you feel outmatched by your competiti
 on.\n\nBring your entire family to enjoy the Shabbaton. W...
DTSTART;TZID=America/Los_Angeles:20200207T150000
DTEND;TZID=America/Los_Angeles:20200209T120000
END:VEVENT
END:VCALENDAR
