BEGIN:VCALENDAR
PRODID:-//eluceo/ical//2.0/EN
VERSION:2.0
CALSCALE:GREGORIAN
BEGIN:VEVENT
UID:3b5cefc3c004a7e12a11279e93299f78
DTSTAMP:20260420T204933Z
SUMMARY:Kollel NCSY Family Shabbaton 2020
DESCRIPTION:Jewish Federation of Greater Portland\nCommunity Calendar\nhttp
 s://jewishportland.org/community-calendar/kollel-ncsy-family-shabbaton20\n
 \nSaul Blinkoff is joining us for the 2020 Kollel/NCSY Family Shabbaton. R
 egistration has just opened so grab your room NOW.\n\nSaul is a Disney An
 imator\, DreamWorks Producer\, and JRWP Men's Trip Leader. Over the weeken
 d\, Saul will share his story on how he went from a kid with a dream to 
 land a coveted internship at Disney\, he will teach you how to succeed e
 ven if your goal seems unreachable and you feel outmatched by your competi
 tion.\n\nBring your entire family to enjoy the Shabbaton. W...
DTSTART;TZID=America/Los_Angeles:20200207T150000
DTEND;TZID=America/Los_Angeles:20200209T120000
END:VEVENT
END:VCALENDAR
