BEGIN:VCALENDAR
PRODID:-//eluceo/ical//2.0/EN
VERSION:2.0
CALSCALE:GREGORIAN
BEGIN:VEVENT
UID:407b926a2764e24c083695d7a91249a3
DTSTAMP:20260421T212129Z
SUMMARY:Krav Maga - Techique Course
DESCRIPTION:Jewish Federation of Greater Portland\nCommunity Calendar\nhttp
 s://jewishportland.org/community-calendar/krav-maga-techique-course-348685
 \n\nJoin the MJCC communtiy on Facebook Live to learn Krav Maga technique
 s from instrcutor Elias Stahl \n\nfacebook.com/mjccpdx
DTSTART;TZID=America/Los_Angeles:20200407T180000
DTEND;TZID=America/Los_Angeles:20200407T183000
END:VEVENT
END:VCALENDAR
