BEGIN:VCALENDAR
PRODID:-//eluceo/ical//2.0/EN
VERSION:2.0
CALSCALE:GREGORIAN
BEGIN:VEVENT
UID:38c7e7b28c79f4987e4f2075168ac490
DTSTAMP:20260426T022356Z
SUMMARY:Lift Up Elul with Joey Weisenberg in Concert
DESCRIPTION:Jewish Federation of Greater Portland\nCommunity Calendar\nhttp
 s://jewishportland.org/community-calendar/lift-up-elul-with-joey-weisenber
 g-in-concert\n\nJoey Weisenberg is returning to the Shaarie Torah communit
 y for a special Elul concert that will stir your soul and lift your spirit
  as we approach the High Holy Days. Proceeds will support arts and culture
  programming throughout the year at CST. All are welcome. In our sanctuary
 . \n\nTicket Prices: $54 patron\, $36 preferred\, $18 general \n\nSponso
 rship Opportunities Available. \n\nPresenting Community Partner: Congrega
 tion Havurah Shalom\n\nTickets here\n\nAbout Joey Weisenberg:\n\nA virt...
DTSTART;TZID=America/Los_Angeles:20220918T043000
DTEND;TZID=America/Los_Angeles:20220918T073000
END:VEVENT
END:VCALENDAR
