BEGIN:VCALENDAR
PRODID:-//eluceo/ical//2.0/EN
VERSION:2.0
CALSCALE:GREGORIAN
BEGIN:VEVENT
UID:022d59676e4bf602d92ce975331b4fc3
DTSTAMP:20260419T195237Z
SUMMARY:Lights\, Kesser\, Latkes
DESCRIPTION:Jewish Federation of Greater Portland\nCommunity Calendar\nhttp
 s://jewishportland.org/community-calendar/lights-kesser-latkes\n\nCelebrat
 e Chanukah with us and enjoy games\, music\, dreidel\, latkes and more!  
DTSTART;TZID=America/Los_Angeles:20161229T170000
DTEND;TZID=America/Los_Angeles:20161229T190000
END:VEVENT
END:VCALENDAR
