BEGIN:VCALENDAR
PRODID:-//eluceo/ical//2.0/EN
VERSION:2.0
CALSCALE:GREGORIAN
BEGIN:VEVENT
UID:3df772b3dcd7355f95154e7f94b4bd38
DTSTAMP:20260422T034222Z
SUMMARY:Live Streaming Shabbaton with Rabbis Rachel Barenblat and David Mar
 kus
DESCRIPTION:Jewish Federation of Greater Portland\nCommunity Calendar\nhttp
 s://jewishportland.org/community-calendar/live-streaming-shabbaton-with-ra
 bbis-rachel-barenblat-and-david-markus-1590165039\n\nOn Friday\, June 12 a
 nd Saturday\, June 13 please join us for a weekend of prayer\, teaching\, 
 music and spirit featuring Rabbi Rachel Barenblat\, aka the Velveteen Rabb
 i\, and Rabbi David Markus.!  With music\, poetry\, spirited prayer with l
 iturgy old and new\, mystic visioning\, and re-mixing of ancient text\, to
 gether we’ll bring forward visions for a Jewish digital future worthy of
  us all. \n\nIt’s a spiritual future Reb Zalman began to imagine long ag
 o – but left for future generations to...
DTSTART;TZID=America/Los_Angeles:20200612T183000
DTEND;TZID=America/Los_Angeles:20200613T220000
END:VEVENT
END:VCALENDAR
