BEGIN:VCALENDAR
PRODID:-//eluceo/ical//2.0/EN
VERSION:2.0
CALSCALE:GREGORIAN
BEGIN:VEVENT
UID:c400f1320ca60fa3afdaaa29b2e1d63e
DTSTAMP:20260420T142133Z
SUMMARY:Mah Jongg for Beginners
DESCRIPTION:Jewish Federation of Greater Portland\nCommunity Calendar\nhttp
 s://jewishportland.org/community-calendar/mah-jongg-for-beginners-january-
 2020\n\nMah Jongg for Beginners\nLearn to play this ancient game.\nTuesday
  Mornings\nJanuary 7 - February 11\n10:30 am - 12:30 pm\, CG200\nCost: $11
 0. Member Cost: $90.\nRegister: oregonjcc.org/registration
DTSTART;TZID=America/Los_Angeles:20200107T103000
DTEND;TZID=America/Los_Angeles:20200107T123000
END:VEVENT
END:VCALENDAR
