BEGIN:VCALENDAR
PRODID:-//eluceo/ical//2.0/EN
VERSION:2.0
CALSCALE:GREGORIAN
BEGIN:VEVENT
UID:dca951a89432c0551c423f0a62c3ed71
DTSTAMP:20260421T164948Z
SUMMARY:MJCC Camp Challah Bake
DESCRIPTION:Jewish Federation of Greater Portland\nCommunity Calendar\nhttp
 s://jewishportland.org/community-calendar/mjcc-camp-challah-bake-347543\n\
 nMJCC Camp Manager\, Carli will bake her grandma’s family challah recipe
  and share with everyone on FB!\nDo you have a family challah recipe you
 ’d like to share? Tune in and share it with us!\n\nhttps://www.facebook.
 com/MJCCPDX
DTSTART;TZID=America/Los_Angeles:20200327T110000
DTEND;TZID=America/Los_Angeles:20200327T130000
END:VEVENT
END:VCALENDAR
