BEGIN:VCALENDAR
PRODID:-//eluceo/ical//2.0/EN
VERSION:2.0
CALSCALE:GREGORIAN
BEGIN:VEVENT
UID:46941492e0b8a52a3a1dd57b624451a2
DTSTAMP:20260420T163609Z
SUMMARY:MJCC Community Celebration
DESCRIPTION:Jewish Federation of Greater Portland\nCommunity Calendar\nhttp
 s://jewishportland.org/community-calendar/mjcc-community-celebration\n\nMJ
 CC Community Celebration\n\nHonoring members and All-Stars! Also awarding 
 the Harry Glickman Scholar Athlete Award Winners\n\nSpecial Guest:  Bobby
  Gross\, Portland Traiblazer 1975\n\nPerformance by: Nefesh Mountain\n\nPl
 ease regisster at: https://www.oregonjcc.org/arts-culture/upcoming-events
 /community-celebration\n\nMore information skorin@OREGONJCC.ORG\n\n 
DTSTART;TZID=America/Los_Angeles:20200514T170000
DTEND;TZID=America/Los_Angeles:20200514T190000
END:VEVENT
END:VCALENDAR
