BEGIN:VCALENDAR
PRODID:-//eluceo/ical//2.0/EN
VERSION:2.0
CALSCALE:GREGORIAN
BEGIN:VEVENT
UID:fc9148684e6d5071f7fd264bda541f14
DTSTAMP:20260422T101916Z
SUMMARY:MJCC Hanukkah Donuts + Dreidels
DESCRIPTION:Jewish Federation of Greater Portland\nCommunity Calendar\nhttp
 s://jewishportland.org/community-calendar/mjcc-hanukkah-donuts-dreidels\n\
 nEnjoy arts and crafts\, dreidels\, story time\, singing\, and eat some d
 elicious sufganiyot  (jelly donuts) at this family-friendly Hanukkah cele
 bration.\nCost: $5 per family.\nRegister: https://www.jewishportland.org/c
 ommunity-calendar/chanukah-happenings/mjcc-chanukah-donuts-dreidels-390949
DTSTART;TZID=America/Los_Angeles:20211205T130000
DTEND;TZID=America/Los_Angeles:20211205T150000
END:VEVENT
END:VCALENDAR
