BEGIN:VCALENDAR
PRODID:-//eluceo/ical//2.0/EN
VERSION:2.0
CALSCALE:GREGORIAN
BEGIN:VEVENT
UID:11c7f1358f1f9619a7a596d1f2892feb
DTSTAMP:20260420T024533Z
SUMMARY:Moishe Pod-West PDX Happy Hour at Leikam
DESCRIPTION:Jewish Federation of Greater Portland\nCommunity Calendar\nhttp
 s://jewishportland.org/community-calendar/moishe-pod-west-pdx-happy-hour-a
 t-leikam-1673815011\n\nWe're taking this show on the road to visit Leikam 
 Brewing\, a jewish owned brewery and the only kosher brewery in Portland. 
 RSVP via www.moishepodwestpdx.com
DTSTART;TZID=America/Los_Angeles:20230316T193000
DTEND;TZID=America/Los_Angeles:20230316T213000
END:VEVENT
END:VCALENDAR
