BEGIN:VCALENDAR
PRODID:-//eluceo/ical//2.0/EN
VERSION:2.0
CALSCALE:GREGORIAN
BEGIN:VEVENT
UID:7f1627d28df939200a2ae6f85a608e5c
DTSTAMP:20260424T034336Z
SUMMARY:Mother and Daughter Challah Bake
DESCRIPTION:Jewish Federation of Greater Portland\nCommunity Calendar\nhttp
 s://jewishportland.org/community-calendar/mother-and-daughter-challah-bake
 -1776381571\n\nAll ages welcome! A light\, fun evening to bond\, connect\,
  and bake challah together with your mom\, daughter (or granddaughter) and
  a wonderful community of Jewish women.\n\nIt’s more than baking\, it’
 s a beautiful mitzvah shared across generations\, linking us to the women 
 who came before us.\n\nThursday\, April 23 at 5:30PM\n\nThere will be fres
 h Challah tasting and dips. Feel free to share this with someone who might
  be enjoy this evening as well.
DTSTART;TZID=America/Los_Angeles:20260423T173000
DTEND;TZID=America/Los_Angeles:20260423T190000
END:VEVENT
END:VCALENDAR
