BEGIN:VCALENDAR
PRODID:-//eluceo/ical//2.0/EN
VERSION:2.0
CALSCALE:GREGORIAN
BEGIN:VEVENT
UID:442ed181d148539dd16a151fe732dd42
DTSTAMP:20260421T025054Z
SUMMARY:Neshama Carlebach Community Concert
DESCRIPTION:Jewish Federation of Greater Portland\nCommunity Calendar\nhttp
 s://jewishportland.org/community-calendar/neshama-carlebach-community-conc
 ert-1513972221\n\nNeshama Carlebach\,  a leading superstar in Jewish Enter
 tainment\, is continuing the legacy established by her father\, Rabbi Shlo
 mo Carlebach. 
DTSTART;TZID=America/Los_Angeles:20180211T163000
DTEND;TZID=America/Los_Angeles:20180211T183000
END:VEVENT
END:VCALENDAR
