BEGIN:VCALENDAR
PRODID:-//eluceo/ical//2.0/EN
VERSION:2.0
CALSCALE:GREGORIAN
BEGIN:VEVENT
UID:bf388523e9ee94a3c82d4dc4532248f8
DTSTAMP:20260424T160819Z
SUMMARY:Neveh Shalom Sisterhood Mah Jongg Madness Brunch and Tournament
DESCRIPTION:Jewish Federation of Greater Portland\nCommunity Calendar\nhttp
 s://jewishportland.org/community-calendar/neveh-shalom-sisterhood-mah-jong
 g-madness-brunch-and-tournament-1682640675\n\nBrunch followed by a friendl
 y Mah Jongg tournament.
DTSTART;TZID=America/Los_Angeles:20230604T110000
DTEND;TZID=America/Los_Angeles:20230604T160000
END:VEVENT
END:VCALENDAR
