BEGIN:VCALENDAR
PRODID:-//eluceo/ical//2.0/EN
VERSION:2.0
CALSCALE:GREGORIAN
BEGIN:VEVENT
UID:8aab9830af75b4256ef8c6ed525b4b58
DTSTAMP:20260420T220814Z
SUMMARY:Yom Kippur Family Services – Neveh Shalom
DESCRIPTION:Jewish Federation of Greater Portland\nCommunity Calendar\nhttp
 s://jewishportland.org/community-calendar/neveh-shalom-yom-kippur-family-s
 ervices\n\n*Please note that tickets are REQUIRED for this service*\n\nTo 
 purchase tickets\, please visit https://nevehshalom.org/hhd5784/\,contact
  hhd@nevehshalom.org or 503-246-8831.\n\nWhere do kids and teens belong 
 at CNS over the High Holy Days? Right here!\n\nChildren are welcome in EVE
 RY service at Neveh Shalom. \n\nNeveh Shalom is an open and egalitarian c
 ommunity. Our services are led by our clergy team Rabbi David Kosak\, Rabb
 i Eve Posen\, and Cantor Eyal Bitton\, along with guest leader Natan ...
DTSTART;TZID=America/Los_Angeles:20230925T091500
DTEND;TZID=America/Los_Angeles:20230925T220000
END:VEVENT
END:VCALENDAR
