BEGIN:VCALENDAR
PRODID:-//eluceo/ical//2.0/EN
VERSION:2.0
CALSCALE:GREGORIAN
BEGIN:VEVENT
UID:94a05f77cbe24440a22cd106ffffb43f
DTSTAMP:20260420T104356Z
SUMMARY:Newish & Jewish: A Newcomer Happy Hour
DESCRIPTION:Jewish Federation of Greater Portland\nCommunity Calendar\nhttp
 s://jewishportland.org/community-calendar/newish-jewish-a-newcomer-happy-h
 our\n\nAre you new to town? Perhaps you've been in Portland for a bit\, bu
 t you'd like stronger connection to the Tribe? \n\nJoin us on May 9th for 
 a happy hour to celebrate the beginning of summer. The rooftop deck of 10 
 Barrel is beautiful in the late afternoon. \n\nWe will have a few natives 
 and PDX old-timers there to answer questions and help you find your Jewish
  community. First round of drinks is on us\, thanks to the generosity of J
 ewish Federation of Greater Portland!\n\nJoin the Facebook eve...
DTSTART;TZID=America/Los_Angeles:20190509T170000
DTEND;TZID=America/Los_Angeles:20190509T200000
END:VEVENT
END:VCALENDAR
