BEGIN:VCALENDAR
PRODID:-//eluceo/ical//2.0/EN
VERSION:2.0
CALSCALE:GREGORIAN
BEGIN:VEVENT
UID:9ccc20d114a19372369a75ce847a2283
DTSTAMP:20260421T085941Z
SUMMARY:Northeast Story Hour with PJ Library
DESCRIPTION:Jewish Federation of Greater Portland\nCommunity Calendar\nhttp
 s://jewishportland.org/community-calendar/northeast-story-hour-with-pj-lib
 rary\n\nShare in a weekly story hour for families with music and PJ Librar
 y Books at New Seasons Market on N Williams.
DTSTART;TZID=America/Los_Angeles:20160918T093000
DTEND;TZID=America/Los_Angeles:20160918T101500
END:VEVENT
END:VCALENDAR
