BEGIN:VCALENDAR
PRODID:-//eluceo/ical//2.0/EN
VERSION:2.0
CALSCALE:GREGORIAN
BEGIN:VEVENT
UID:ee1a76062984acc6b88fefcbac3826d5
DTSTAMP:20260424T055630Z
SUMMARY:OJCF's Annual Reception
DESCRIPTION:Jewish Federation of Greater Portland\nCommunity Calendar\nhttp
 s://jewishportland.org/community-calendar/ojcfs-annual-reception-148063917
 4\n\nOJCF's Annual Reception... Save the Date!
DTSTART;TZID=America/Los_Angeles:20170621T173000
DTEND;TZID=America/Los_Angeles:20170621T193000
END:VEVENT
END:VCALENDAR
