BEGIN:VCALENDAR
PRODID:-//eluceo/ical//2.0/EN
VERSION:2.0
CALSCALE:GREGORIAN
BEGIN:VEVENT
UID:e7425005a92fdf68b53c7394d9f9c849
DTSTAMP:20260425T200854Z
SUMMARY:OJMCHE EXHIBITION TOUR AND ROOFTOP RECEPTION ages 45+
DESCRIPTION:Jewish Federation of Greater Portland\nCommunity Calendar\nhttp
 s://jewishportland.org/community-calendar/ojmche-exhibition-tour-and-rooft
 op-reception-ages-45\n\nOJMCHE EXHIBITION TOUR AND ROOFTOP RECEPTION: COMM
 UNITY MEMBERS AGES 45+\n\nWhether you are new to Portland or interested in
  a deeper understanding of the city’s Jewish history\, OJMCHE\, The Jewi
 sh Federation of Greater Portland\, and the Mittleman Jewish Community Cen
 ter invite you to join us for a special summer series for community member
 s ages 45+. Join Guest Curator Kenneth Helphand for a tour of Lawrence Ha
 lprin\, Fountains and Upon Thy Gates\, The Elaine K. and Norman Winik Me
 zuzah Co...
DTSTART;TZID=America/Los_Angeles:20210803T110000
DTEND;TZID=America/Los_Angeles:20210803T130000
END:VEVENT
END:VCALENDAR
