BEGIN:VCALENDAR
PRODID:-//eluceo/ical//2.0/EN
VERSION:2.0
CALSCALE:GREGORIAN
BEGIN:VEVENT
UID:f21e18457618f3f82d88cea5f2c4bac5
DTSTAMP:20260422T111247Z
SUMMARY:OJMCHE Gala
DESCRIPTION:Jewish Federation of Greater Portland\nCommunity Calendar\nhttp
 s://jewishportland.org/community-calendar/ojmche-gala-1663707271\n\nOJMCHE
 's Annual Gala\, details to follow!
DTSTART;TZID=America/Los_Angeles:20230423T170000
DTEND;TZID=America/Los_Angeles:20230423T210000
END:VEVENT
END:VCALENDAR
