BEGIN:VCALENDAR
PRODID:-//eluceo/ical//2.0/EN
VERSION:2.0
CALSCALE:GREGORIAN
BEGIN:VEVENT
UID:25fc758cbd962813fe79b9e221d52c1f
DTSTAMP:20260424T075553Z
SUMMARY:"One Woman\, Two Wars"--A Journey of a Ukrainian\, Israeli\, Jew
DESCRIPTION:Jewish Federation of Greater Portland\nCommunity Calendar\nhttp
 s://jewishportland.org/community-calendar/one-woman-two-wars--a-journey-of
 -a-ukrainian-israeli-jew-1704414596\n\nAna Sazonov\, born in Ukraine witho
 ut knowing her Jewish identity\, unfolds her remarkable personal journey\,
  tracing her discovery of her heritage\, the transformative decision to ma
 ke Aliyah\, and her evolution into a dedicated Jewish professional. She vi
 vidly recounts the profound impact and the proactive steps she took in res
 ponse to the war in Ukraine and Israel\, as well as the alarming surge in 
 global antisemitism. This compelling narrative serves as an inspirational 
 call to action\, urging i...
DTSTART;TZID=America/Los_Angeles:20240131T190000
DTEND;TZID=America/Los_Angeles:20240131T203000
END:VEVENT
END:VCALENDAR
