BEGIN:VCALENDAR
PRODID:-//eluceo/ical//2.0/EN
VERSION:2.0
CALSCALE:GREGORIAN
BEGIN:VEVENT
UID:ced01524683a8717916791675a4ba78f
DTSTAMP:20260423T202806Z
SUMMARY:OneTable Live | Pati Jinich Talks (and Cooks) Shabbat
DESCRIPTION:Jewish Federation of Greater Portland\nCommunity Calendar\nhttp
 s://jewishportland.org/community-calendar/onetable-live--pati-jinich-talks
 -and-cooks-shabbat-1588887655\n\nBorn and raised in Mexico City\, Pati Jin
 ich is the host of the two-time James Beard Award-winning and three-time E
 mmy nominated PBS television series “Pati’s Mexican Table” now going
  on its ninth season.\n\nJoin virtually for a conversation and cooking dem
 o with Jake Cohen. Learn how to make Pati’s Shabbat dinner go-tos\, base
 d on her cookbooks\, Pati’s Mexican Table and Mexican Today. During or a
 fter the event\, we invite you to cook your own version of Pati’s Shabba
 t menu so that w...
DTSTART;TZID=America/Los_Angeles:20200514T150000
DTEND;TZID=America/Los_Angeles:20200514T160000
END:VEVENT
END:VCALENDAR
