BEGIN:VCALENDAR
PRODID:-//eluceo/ical//2.0/EN
VERSION:2.0
CALSCALE:GREGORIAN
BEGIN:VEVENT
UID:5856f4f87b6e54bf6eb71d67fac29c48
DTSTAMP:20260420T204913Z
SUMMARY:Online Torah Study with Rabbi Ruhi Sophia
DESCRIPTION:Jewish Federation of Greater Portland\nCommunity Calendar\nhttp
 s://jewishportland.org/community-calendar/online-torah-study-with-rabbi-ru
 hi-sophia-1584981247-346943\n\nJoin Rabbi Ruhi Sophia for a discussion of 
 this week’s Torah portion and how it impacts our lives.\n\nThis event is
  using Zoom: https://zoom.us/j/114642741
DTSTART;TZID=America/Los_Angeles:20200326T120000
DTEND;TZID=America/Los_Angeles:20200326T130000
END:VEVENT
END:VCALENDAR
