BEGIN:VCALENDAR
PRODID:-//eluceo/ical//2.0/EN
VERSION:2.0
CALSCALE:GREGORIAN
BEGIN:VEVENT
UID:35695fe2b1f384dff136adfc9437847a
DTSTAMP:20260423T214729Z
SUMMARY:Outdoor Summer Concert Series featuring Kimberly Schneiderman
DESCRIPTION:Jewish Federation of Greater Portland\nCommunity Calendar\nhttp
 s://jewishportland.org/community-calendar/outdoor-summer-concert-series-fe
 aturing-kimberly-schneiderman\n\nEveryone loves being outside in Portland 
 during the summer and so do we!
DTSTART;TZID=America/Los_Angeles:20170716T170000
DTEND;TZID=America/Los_Angeles:20170716T190000
END:VEVENT
END:VCALENDAR
