BEGIN:VCALENDAR
PRODID:-//eluceo/ical//2.0/EN
VERSION:2.0
CALSCALE:GREGORIAN
BEGIN:VEVENT
UID:6ca202e0a0f51c5ef39bfe0d2dee965b
DTSTAMP:20260426T015154Z
SUMMARY:Playing in the Sand with OK YOU
DESCRIPTION:Jewish Federation of Greater Portland\nCommunity Calendar\nhttp
 s://jewishportland.org/community-calendar/playing-in-the-sand-with-ok-you\
 n\nThis public event is open to kids of all ages and their families. Join 
 OK YOU for a playful exploration of grief and big emotions at the Silverli
 nings sandbox. Participants will leave with a kit to help them navigate th
 ese big emotions every day.\n\nOK YOU is a nonprofit that offers free art
 s-based mental health projects\, workshops\, and resources for navigating 
 big emotions and staying connected to our OK selves.
DTSTART;TZID=America/Los_Angeles:20260523T130000
DTEND;TZID=America/Los_Angeles:20260523T140000
END:VEVENT
END:VCALENDAR
