BEGIN:VCALENDAR
PRODID:-//eluceo/ical//2.0/EN
VERSION:2.0
CALSCALE:GREGORIAN
BEGIN:VEVENT
UID:0c4e290689b3973fd012107710f920d1
DTSTAMP:20260423T060021Z
SUMMARY:Pre-Pesach Family Singalong\, with Rabbi Ruhi Sophia
DESCRIPTION:Jewish Federation of Greater Portland\nCommunity Calendar\nhttp
 s://jewishportland.org/community-calendar/pre-pesach-family-singalong-with
 -rabbi-ruhi-sophia-1585693561-348247\n\nGet ready to sing some of your fav
 orites and learn some you don't know!\n\nClick here for the Zoom link
DTSTART;TZID=America/Los_Angeles:20200405T160000
DTEND;TZID=America/Los_Angeles:20200405T170000
END:VEVENT
END:VCALENDAR
