BEGIN:VCALENDAR
PRODID:-//eluceo/ical//2.0/EN
VERSION:2.0
CALSCALE:GREGORIAN
BEGIN:VEVENT
UID:746629c1c43d582a2e59c685aeb9c771
DTSTAMP:20260421T172243Z
SUMMARY:Public tour of Psychedelicatessen: A Powerful Dose of Art by Steve 
 Marcus
DESCRIPTION:Jewish Federation of Greater Portland\nCommunity Calendar\nhttp
 s://jewishportland.org/community-calendar/public-tour-of-psychedelicatesse
 n-a-powerful-dose-of-art-by-steve-marcus\n\nSteve Marcus\, affectionately 
 dubbed the “Top Dog of Kosher Pop Art\,” brings a vibrant visual celeb
 ration of art and Judaica in his exhibition Psychedelicatessen: A Powerful
  Dose of Art. Join us for a free guided tour of Steve Marcus’ artwork in
 spired by underground comics\, Hasidism\, and the psychedelic art of the f
 ree love era.\n\n \n\nThis program is presented as part of Psychedelicate
 ssen: A Powerful Dose of Art by Steve Marcus.
DTSTART;TZID=America/Los_Angeles:20260503T120000
DTEND;TZID=America/Los_Angeles:20260503T123000
END:VEVENT
END:VCALENDAR
