BEGIN:VCALENDAR
PRODID:-//eluceo/ical//2.0/EN
VERSION:2.0
CALSCALE:GREGORIAN
BEGIN:VEVENT
UID:51ea926489f869606a520fd8ed9beef2
DTSTAMP:20260419T154713Z
SUMMARY:Purim - Holy Joy: Celebrating the Jewish Holidays Class Series
DESCRIPTION:Jewish Federation of Greater Portland\nCommunity Calendar\nhttp
 s://jewishportland.org/community-calendar/purim---holy-joy-celebrating-the
 -jewish-holidays-class-series-1770877469\n\nExplore the joy and mysticism 
 of the Jewish holidays through the cycle of the year.\n\nJoin us for a cla
 ss on Purim with Reb Zmira Lovejoy.\n\nSuitable for beginners or wherever 
 you are on your Jewish journey!\n\n \n\nWhen: Thursday\, February 26th\, 
 at 7 pm\n\nHoly Joy Series classes are on the 4th Thursday of every month\
 , 7 - 8:30 pm PST\, on Zoom\n\nRegistration is required to receive the lin
 k.\n\n \n\nTuition Fee:\n\nMembers of P'nai Or of Portland: Free\n\nNonme
 mbers: $18 per session\, or ...
DTSTART;TZID=America/Los_Angeles:20260226T190000
DTEND;TZID=America/Los_Angeles:20260226T203000
END:VEVENT
END:VCALENDAR
